BEGIN:VCALENDAR
VERSION:2.0
PRODID:icalendar-ruby
CALSCALE:GREGORIAN
BEGIN:VEVENT
DTSTAMP:20260419T150801Z
UID:9231cec1-fd1a-48ae-b21d-e861c1051218
DTSTART;VALUE=DATE:20191204
DESCRIPTION:Property ID# 467339\, Locatoin: Harcourts 516 High Street Lower
  Hutt\, Time: 4:00PM
SUMMARY:Auction for 
END:VEVENT
END:VCALENDAR
