BEGIN:VCALENDAR
VERSION:2.0
PRODID:icalendar-ruby
CALSCALE:GREGORIAN
BEGIN:VEVENT
DTSTAMP:20260420T225431Z
UID:63e2f549-1502-4ee2-914b-ada1d697c5cf
DTSTART;VALUE=DATE:20200916
DESCRIPTION:Property ID# 488702\, Time: 5:30PM
SUMMARY:Auction for 
END:VEVENT
END:VCALENDAR
