BEGIN:VCALENDAR
VERSION:2.0
PRODID:icalendar-ruby
CALSCALE:GREGORIAN
BEGIN:VEVENT
DTSTAMP:20260423T082505Z
UID:a275ad2b-d5ba-4d96-86dc-537687ad4b4a
DTSTART;VALUE=DATE:20210218
DESCRIPTION:Property ID# 500817\, Locatoin: 62 Queen Street\, Upper Hutt\, 
 Time: 2:00PM
SUMMARY:Auction for 
END:VEVENT
END:VCALENDAR
