BEGIN:VCALENDAR
VERSION:2.0
PRODID:icalendar-ruby
CALSCALE:GREGORIAN
BEGIN:VEVENT
DTSTAMP:20260423T011526Z
UID:658a046f-eff4-462e-bb7e-67b89a378a32
DTSTART;VALUE=DATE:20210429
DESCRIPTION:Property ID# 507214\, Time: 12:30PM
SUMMARY:Auction for 
END:VEVENT
END:VCALENDAR
