BEGIN:VCALENDAR
VERSION:2.0
PRODID:icalendar-ruby
CALSCALE:GREGORIAN
BEGIN:VEVENT
DTSTAMP:20260420T200921Z
UID:f204826e-bab0-43e6-8228-30bcef0b7b48
DTSTART;VALUE=DATE:20210924
DESCRIPTION:Property ID# 516230\, Locatoin: Harcourts Wellington City Offic
 e (unless sold prior)\, Time: 5:00PM
SUMMARY:Auction for 
END:VEVENT
END:VCALENDAR
