BEGIN:VCALENDAR
VERSION:2.0
PRODID:icalendar-ruby
CALSCALE:GREGORIAN
BEGIN:VEVENT
DTSTAMP:20260419T174515Z
UID:65517400-a107-4e52-9cc7-52102ba46189
DTSTART;VALUE=DATE:20211110
DESCRIPTION:Property ID# 520172\, Locatoin: Bayleys Office\, 62 Queens Stre
 et\, Upper Hutt\, Time: 2:00PM
SUMMARY:Auction for 
END:VEVENT
END:VCALENDAR
