BEGIN:VCALENDAR
VERSION:2.0
PRODID:icalendar-ruby
CALSCALE:GREGORIAN
BEGIN:VEVENT
DTSTAMP:20260420T231821Z
UID:e40c7a98-1cf0-4d02-97eb-f0ba7513ba82
DTSTART;VALUE=DATE:20221026
DESCRIPTION:Property ID# 544604\, Locatoin: Harcourts Wellington City Offic
 e (unless sold prior)\, Time: 12:00PM
SUMMARY:Auction for 
END:VEVENT
END:VCALENDAR
