BEGIN:VCALENDAR
VERSION:2.0
PRODID:icalendar-ruby
CALSCALE:GREGORIAN
BEGIN:VEVENT
DTSTAMP:20260420T201053Z
UID:5ac05aba-cdc0-4ea2-a446-7ad0b6a52e31
DTSTART;VALUE=DATE:20221221
DESCRIPTION:Property ID# 548517\, Locatoin: Harcourts Wellington City Offic
 e (unless sold prior)\, Time: 3:00PM
SUMMARY:Auction for 
END:VEVENT
END:VCALENDAR
