BEGIN:VCALENDAR
VERSION:2.0
PRODID:icalendar-ruby
CALSCALE:GREGORIAN
BEGIN:VEVENT
DTSTAMP:20260420T201317Z
UID:248392e9-194a-4eaf-8d19-303d3f7d6ba7
DTSTART;VALUE=DATE:20230628
DESCRIPTION:Property ID# 557909\, Locatoin: Harcourts Wellington City Offic
 e (Unless Sold Prior)\, Time: 12:00PM
SUMMARY:Auction for 
END:VEVENT
END:VCALENDAR
