BEGIN:VCALENDAR
VERSION:2.0
PRODID:icalendar-ruby
CALSCALE:GREGORIAN
BEGIN:VEVENT
DTSTAMP:20260424T082001Z
UID:f256e115-277b-4e4d-9df4-748c1c14d36d
DTSTART;VALUE=DATE:20230707
DESCRIPTION:Property ID# 558368\, Locatoin: Harcourts Wellington City Offic
 e (Unless Sold Prior)\, Time: 12:00PM
SUMMARY:Auction for 
END:VEVENT
END:VCALENDAR
