BEGIN:VCALENDAR
VERSION:2.0
PRODID:icalendar-ruby
CALSCALE:GREGORIAN
BEGIN:VEVENT
DTSTAMP:20260420T172904Z
UID:da4e5350-ca07-4399-b016-34b5f12b008b
DTSTART;VALUE=DATE:20241129
DESCRIPTION:Property ID# 583450\, Locatoin: Harcourts Wellington City Offic
 e\, 57 Vivian St Te Aro 6011\, Time: 12:00PM
SUMMARY:Auction for 
END:VEVENT
END:VCALENDAR
