BEGIN:VCALENDAR
VERSION:2.0
PRODID:icalendar-ruby
CALSCALE:GREGORIAN
BEGIN:VEVENT
DTSTAMP:20260420T171710Z
UID:c85b30b6-3483-46ae-8ece-f5556e740e18
DTSTART;VALUE=DATE:20250312
DESCRIPTION:Property ID# 588563\, Locatoin: Harcourts Wellington City Offic
 e\, 57 Vivian Street\, Te Aro\, Wellington 6011\, Time: 12:15PM
SUMMARY:Auction for 
END:VEVENT
END:VCALENDAR
