BEGIN:VCALENDAR
VERSION:2.0
PRODID:icalendar-ruby
CALSCALE:GREGORIAN
BEGIN:VEVENT
DTSTAMP:20260424T082503Z
UID:91bf88f0-2d16-4d81-8d46-b3fc16c0845e
DTSTART;VALUE=DATE:20250404
DESCRIPTION:Property ID# 589398\, Locatoin: Harcourts Wellington City Offic
 e at 57 Vivian Street\, Te Aro\, Wellington 6011\, Time: 12:00PM
SUMMARY:Auction for 
END:VEVENT
END:VCALENDAR
