BEGIN:VCALENDAR
VERSION:2.0
PRODID:icalendar-ruby
CALSCALE:GREGORIAN
BEGIN:VEVENT
DTSTAMP:20260420T172222Z
UID:540bae0f-4f74-4898-b246-2fefdd1aaeba
DTSTART;VALUE=DATE:20250529
DESCRIPTION:Property ID# 592335\, Locatoin: Harcourts Wellington City Offic
 e at 57 Vivian Street\, Te Aro\, Wellington 6011\, Time: 12:00PM
SUMMARY:Auction for 
END:VEVENT
END:VCALENDAR
